BEGIN:VCALENDAR
VERSION:2.0
PRODID:-//ChamberMaster//Event Calendar 2.0//EN
METHOD:PUBLISH
X-PUBLISHED-TTL:P3D
REFRESH-INTERVAL:P3D
CALSCALE:GREGORIAN
BEGIN:VEVENT
DTSTART:20260507T170000Z
DTEND:20260507T170000Z
X-MICROSOFT-CDO-ALLDAYEVENT:FALSE
SUMMARY:BCFS Nutrition For a Healthy Pregnancy
DESCRIPTION:Nutrition for a Healthy Pregnancy\n\nHealthy pregnancy starts with good nutrition-learn what your body and baby need!
X-ALT-DESC;FMTTYPE=text/html:Nutrition for a Healthy Pregnancy<br />\nHealthy pregnancy starts with good nutrition-learn what your body and baby need!
LOCATION:virtual
UID:e.507.18036
SEQUENCE:3
DTSTAMP:20260423T005531Z
URL:https://members.lufkintexas.org/events/details/bcfs-nutrition-for-a-healthy-pregnancy-18036
END:VEVENT

END:VCALENDAR
