BEGIN:VCALENDAR
VERSION:2.0
PRODID:-//ChamberMaster//Event Calendar 2.0//EN
METHOD:PUBLISH
X-PUBLISHED-TTL:P3D
REFRESH-INTERVAL:P3D
CALSCALE:GREGORIAN
BEGIN:VEVENT
DTSTART:20261015T223000Z
DTEND:20261015T233000Z
X-MICROSOFT-CDO-ALLDAYEVENT:FALSE
SUMMARY:Candidate Forum
DESCRIPTION:Candidate Forum
X-ALT-DESC;FMTTYPE=text/html:Candidate Forum
LOCATION:Angelina College Community Services Building Room CS-104 3500 South First Street\, Lufkin
UID:e.507.17906
SEQUENCE:3
DTSTAMP:20260423T131355Z
URL:https://members.lufkintexas.org/events/details/candidate-forum-17906
END:VEVENT

END:VCALENDAR
