BEGIN:VCALENDAR
VERSION:2.0
PRODID:-//ChamberMaster//Event Calendar 2.0//EN
METHOD:PUBLISH
X-PUBLISHED-TTL:P3D
REFRESH-INTERVAL:P3D
CALSCALE:GREGORIAN
BEGIN:VEVENT
DTSTART:20261113T003000Z
DTEND:20261113T020000Z
X-MICROSOFT-CDO-ALLDAYEVENT:FALSE
SUMMARY:Celebrate Business: Chamber Business Awards
DESCRIPTION:Celebrate Business: Chamber Business Awards
X-ALT-DESC;FMTTYPE=text/html:Celebrate Business: Chamber Business Awards
LOCATION:Pines Theater 113 S 1st Street\, Lufkin
UID:e.507.17909
SEQUENCE:3
DTSTAMP:20260423T144049Z
URL:https://members.lufkintexas.org/events/details/celebrate-business-chamber-business-awards-17909
END:VEVENT

END:VCALENDAR
