BEGIN:VCALENDAR
VERSION:2.0
PRODID:-//ChamberMaster//Event Calendar 2.0//EN
METHOD:PUBLISH
X-PUBLISHED-TTL:P3D
REFRESH-INTERVAL:P3D
CALSCALE:GREGORIAN
BEGIN:VEVENT
DTSTART:20261111T160000Z
DTEND:20261111T180000Z
X-MICROSOFT-CDO-ALLDAYEVENT:FALSE
SUMMARY:Chamber University
DESCRIPTION:Chamber University | Mike Dobert\n\nThe Art of Empowering Others & The Role of Employee Engagement
X-ALT-DESC;FMTTYPE=text/html:Chamber University |&nbsp\;Mike Dobert<br />\nThe Art of Empowering Others &amp\; The Role of Employee Engagement
LOCATION:
UID:e.507.17887
SEQUENCE:3
DTSTAMP:20260423T143443Z
URL:https://members.lufkintexas.org/events/details/chamber-university-17887
END:VEVENT

END:VCALENDAR
