BEGIN:VCALENDAR
VERSION:2.0
PRODID:-//ChamberMaster//Event Calendar 2.0//EN
METHOD:PUBLISH
X-PUBLISHED-TTL:P3D
REFRESH-INTERVAL:P3D
CALSCALE:GREGORIAN
BEGIN:VEVENT
DTSTART:20191016T160000Z
DTEND:20191016T170000Z
X-MICROSOFT-CDO-ALLDAYEVENT:FALSE
SUMMARY:Coffee & Conversation
DESCRIPTION:Coffee and Conversation is geared for ages 55 and up but everyone is invited to attend. Coffee and light snack provided. Converse while preparing a craft. All craft materials provided. September 18 Craft: Fall Jigsaw Puzzle Tree Art. October 16 Craft: Witch Hat. November 20 Craft: Fall Leaf Mobile. December 18 Craft: Snowman Ornament.
X-ALT-DESC;FMTTYPE=text/html:Coffee and Conversation is geared for ages 55 and up but everyone is invited to attend. Coffee and light snack provided. Converse while preparing a craft. All craft materials provided. September 18 Craft: Fall Jigsaw Puzzle Tree Art. October 16 Craft: Witch Hat. November 20 Craft: Fall Leaf Mobile. December 18 Craft: Snowman Ornament.
LOCATION:Kurth Memorial Library\, 706 S. Raguet St.\, Lufkin\, TX 75904
UID:e.507.7391
SEQUENCE:3
DTSTAMP:20260420T132220Z
URL:https://members.lufkintexas.org/events/details/coffee-conversation-10-16-2019-7391
END:VEVENT

END:VCALENDAR
