BEGIN:VCALENDAR
VERSION:2.0
PRODID:-//ChamberMaster//Event Calendar 2.0//EN
METHOD:PUBLISH
X-PUBLISHED-TTL:P3D
REFRESH-INTERVAL:P3D
CALSCALE:GREGORIAN
BEGIN:VEVENT
DTSTART:20270201T000000Z
DTEND:20270201T030000Z
X-MICROSOFT-CDO-ALLDAYEVENT:FALSE
SUMMARY:Daddy Daughter Dance 2026
DESCRIPTION:Get ready to groove and make unforgettable memories at the Daddy Daughter Dance 2026\, where fathers and daughters will dance the night away!\n\n\n\n\nThe Daddy-Daughter Dance is a chance to allow fathers\, uncles\, grandfathers\, or father figures the opportunity to set an example and standard for how their daughter should be treated on a date. Get ready for a magical night away as you create a cherished memory that will last a lifetime while strengthening that special relationship. Enjoy light refreshments\, music from a DJ\, and an opportunity to have your memory captured\, which she will cherish forever.\n\nSorry\, no moms allowed.
X-ALT-DESC;FMTTYPE=text/html:<div>\n<div>Get ready to groove and make unforgettable memories at the Daddy Daughter Dance 2026\, where fathers and daughters will dance the night away!</div>\n</div>\n\n<div>\n<div>\n<p>The Daddy-Daughter Dance is a chance to allow fathers\, uncles\, grandfathers\, or father figures the opportunity to set an example and standard for how their daughter should be treated on a date. Get ready for a magical night away as you create a cherished memory that will last a lifetime while strengthening that special relationship. Enjoy light refreshments\, music from a DJ\, and an opportunity to have your memory captured\, which she will cherish forever.</p>\n\n<p>Sorry\, no moms allowed.</p>\n</div>\n</div>\n
LOCATION:Pitser Garrison Civic Center Jan 31 from 6pm to 9pm CST
UID:e.507.17797
SEQUENCE:3
DTSTAMP:20260423T173252Z
URL:https://members.lufkintexas.org/events/details/daddy-daughter-dance-2026-01-31-2027-17797
END:VEVENT

END:VCALENDAR
