BEGIN:VCALENDAR
VERSION:2.0
PRODID:-//ChamberMaster//Event Calendar 2.0//EN
METHOD:PUBLISH
X-PUBLISHED-TTL:P3D
REFRESH-INTERVAL:P3D
CALSCALE:GREGORIAN
BEGIN:VEVENT
DTSTART:20261204T180000Z
DTEND:20261204T190000Z
X-MICROSOFT-CDO-ALLDAYEVENT:FALSE
SUMMARY:First Friday Luncheon | Business Hall Of Fame Presentation
DESCRIPTION:First Friday Luncheon | Business Hall Of Fame Presentation
X-ALT-DESC;FMTTYPE=text/html:<span data-olk-copy-source="CalendarCompose" style="font-family: Aptos\, Aptos_EmbeddedFont\, Aptos_MSFontService\, Calibri\, Helvetica\, sans-serif\; font-size: 12pt\; color: rgb(0\, 0\, 0)\;">First Friday Luncheon | Business Hall Of Fame Presentation</span>
LOCATION:Crown Colony Country Club 900 Crown Colony Drive\, Lufkin
UID:e.507.17914
SEQUENCE:3
DTSTAMP:20260423T160126Z
URL:https://members.lufkintexas.org/events/details/first-friday-luncheon-business-hall-of-fame-presentation-17914
END:VEVENT

END:VCALENDAR
