BEGIN:VCALENDAR
VERSION:2.0
PRODID:-//ChamberMaster//Event Calendar 2.0//EN
METHOD:PUBLISH
X-PUBLISHED-TTL:P3D
REFRESH-INTERVAL:P3D
CALSCALE:GREGORIAN
BEGIN:VEVENT
DTSTART;VALUE=DATE:20260807
DTEND;VALUE=DATE:20260808
TRANSP:TRANSPARENT
X-MICROSOFT-CDO-ALLDAYEVENT:TRUE
SUMMARY:Global Leadership Summit
DESCRIPTION:Global Leadership Summit
X-ALT-DESC;FMTTYPE=text/html:<span data-olk-copy-source="CalendarCompose" style="font-family: Aptos\, Aptos_EmbeddedFont\, Aptos_MSFontService\, Calibri\, Helvetica\, sans-serif\; font-size: 12pt\; color: rgb(0\, 0\, 0)\;">Global Leadership Summit</span>
LOCATION:Pitser Garrison Convention Center 601 N Second Street\, Lufkin
UID:e.507.17892
SEQUENCE:3
DTSTAMP:20260423T101111Z
URL:https://members.lufkintexas.org/events/details/global-leadership-summit-17892
END:VEVENT

END:VCALENDAR
