BEGIN:VCALENDAR
VERSION:2.0
PRODID:-//ChamberMaster//Event Calendar 2.0//EN
METHOD:PUBLISH
X-PUBLISHED-TTL:P3D
REFRESH-INTERVAL:P3D
CALSCALE:GREGORIAN
BEGIN:VEVENT
DTSTART:20200110T180000Z
DTEND:20200110T190000Z
X-MICROSOFT-CDO-ALLDAYEVENT:FALSE
SUMMARY:January 2020 First Friday Luncheon - State of the City
DESCRIPTION:Please join us at our January 2020 First Friday Luncheon. Lufkin Mayor Bob Brown will be joining us to discuss the state of the city and what is to come in the new year for Lufkin.
X-ALT-DESC;FMTTYPE=text/html:Please join us at our January 2020 First Friday Luncheon. Lufkin Mayor Bob Brown will be joining us to discuss the state of the city and what is to come in the new year for Lufkin.&nbsp\;
LOCATION:Pitser Garrison Convention Center 601 N 2nd St. Lufkin\, TX 75901
UID:e.507.7498
SEQUENCE:3
DTSTAMP:20260419T131603Z
URL:https://members.lufkintexas.org/events/details/january-2020-first-friday-luncheon-state-of-the-city-7498
END:VEVENT

END:VCALENDAR
