BEGIN:VCALENDAR
VERSION:2.0
PRODID:-//ChamberMaster//Event Calendar 2.0//EN
METHOD:PUBLISH
X-PUBLISHED-TTL:P3D
REFRESH-INTERVAL:P3D
CALSCALE:GREGORIAN
BEGIN:VEVENT
DTSTART;VALUE=DATE:20261107
DTEND;VALUE=DATE:20261108
TRANSP:TRANSPARENT
X-MICROSOFT-CDO-ALLDAYEVENT:TRUE
SUMMARY:Lufkin Creative Heritage Festival
DESCRIPTION:Lufkin Creative | Heritage Festival\nHeritage Festival is a free\, family-friendly event celebrating the diverse cultures\, traditions\, and history of East Texas. Featuring live entertainment\, art\, food\, hands-on activities\, and kid-friendly experiences\, the festival invites the community to gather\, learn\, and celebrate together in downtown Lufkin.
X-ALT-DESC;FMTTYPE=text/html:Lufkin Creative | Heritage Festival\n<div style="border: 0px\; font: inherit\; margin: 0px\; padding: 0px\; vertical-align: baseline\; color: inherit\;"><span data-end="815" data-olk-copy-source="MessageBody" data-start="794" style="border: 0px\; font: inherit\; margin: 0px\; padding: 0px\; vertical-align: baseline\; color: inherit\;">Heritage Festival</span>&nbsp\;is a free\, family-friendly event celebrating the diverse cultures\, traditions\, and history of East Texas. Featuring live entertainment\, art\, food\, hands-on activities\, and kid-friendly experiences\, the festival invites the community to gather\, learn\, and celebrate together in downtown Lufkin.</div>\n\n<div style="border: 0px\; font: inherit\; margin: 0px\; padding: 0px\; vertical-align: baseline\; color: inherit\;">&nbsp\;</div>\n
LOCATION:Downtown Cotton Square
UID:e.507.17889
SEQUENCE:3
DTSTAMP:20260423T143652Z
URL:https://members.lufkintexas.org/events/details/lufkin-creative-heritage-festival-11-07-2026-17889
END:VEVENT

END:VCALENDAR
