BEGIN:VCALENDAR
VERSION:2.0
PRODID:-//ChamberMaster//Event Calendar 2.0//EN
METHOD:PUBLISH
X-PUBLISHED-TTL:P3D
REFRESH-INTERVAL:P3D
CALSCALE:GREGORIAN
BEGIN:VEVENT
DTSTART:20230930T000000Z
DTEND:20230930T030000Z
X-MICROSOFT-CDO-ALLDAYEVENT:FALSE
SUMMARY:Lufkin Dance Club
DESCRIPTION:Country Western dance sponsored by the Lufkin Dance Club. Dance starts at 7 pm till 10 pm\, music will be provided by Trick Shot Band
X-ALT-DESC;FMTTYPE=text/html:Country Western dance sponsored by the Lufkin Dance Club. Dance starts at 7 pm till 10 pm\, music will be provided by Trick Shot Band
LOCATION:VFW Post 1836 Ford Chapel Rd Lufkin
UID:e.507.16634
SEQUENCE:3
DTSTAMP:20260424T025806Z
URL:https://members.lufkintexas.org/events/details/lufkin-dance-club-09-29-2023-16634
END:VEVENT

END:VCALENDAR
