BEGIN:VCALENDAR
VERSION:2.0
PRODID:-//ChamberMaster//Event Calendar 2.0//EN
METHOD:PUBLISH
X-PUBLISHED-TTL:P3D
REFRESH-INTERVAL:P3D
CALSCALE:GREGORIAN
BEGIN:VEVENT
DTSTART:20261022T163000Z
DTEND:20261022T180000Z
X-MICROSOFT-CDO-ALLDAYEVENT:FALSE
SUMMARY:Lunch and Learn
DESCRIPTION:Lunch and Learn
X-ALT-DESC;FMTTYPE=text/html:Lunch and Learn
LOCATION:Pitser Garrison Convention Center (Texas Room) 601 N Second Street Lufkin\, Texas\, 75901
UID:e.507.17838
SEQUENCE:3
DTSTAMP:20260423T131411Z
URL:https://members.lufkintexas.org/events/details/lunch-and-learn-17838
END:VEVENT

END:VCALENDAR
