BEGIN:VCALENDAR
VERSION:2.0
PRODID:-//ChamberMaster//Event Calendar 2.0//EN
METHOD:PUBLISH
X-PUBLISHED-TTL:P3D
REFRESH-INTERVAL:P3D
CALSCALE:GREGORIAN
BEGIN:VEVENT
DTSTART:20221113T010000Z
DTEND:20221113T030000Z
X-MICROSOFT-CDO-ALLDAYEVENT:FALSE
SUMMARY:M5 Mexican Brass
DESCRIPTION:Since its founding in 2005\, M5 Mexican Brass have established themselves as Latin America's most successful Brass Quintet. Their recipe is the mix of high-class music making and humor. Combining their skills at virtuosic chamber music in all styles\, non-stop interaction with the audience\, inborn showmanship\, inimitable Latin American charm\, and their very own sound\, M5 concerts are unique musical- theatrical experiences.
X-ALT-DESC;FMTTYPE=text/html:Since its founding in 2005\, M5 Mexican Brass have established themselves as Latin America&rsquo\;s most successful Brass Quintet. Their recipe is the mix of high-class music making and humor. Combining their skills at virtuosic chamber music in all styles\, non-stop interaction with the audience\, inborn showmanship\, inimitable Latin American charm\, and their very own sound\, M5 concerts are unique musical- theatrical experiences.
LOCATION:The Pines Theater
UID:e.507.16093
SEQUENCE:3
DTSTAMP:20260424T194330Z
URL:https://members.lufkintexas.org/events/details/m5-mexican-brass-16093
END:VEVENT

END:VCALENDAR
