BEGIN:VCALENDAR
VERSION:2.0
PRODID:-//ChamberMaster//Event Calendar 2.0//EN
METHOD:PUBLISH
X-PUBLISHED-TTL:P3D
REFRESH-INTERVAL:P3D
CALSCALE:GREGORIAN
BEGIN:VEVENT
DTSTART:20190525T210000Z
DTEND:20190526T010000Z
X-MICROSOFT-CDO-ALLDAYEVENT:FALSE
SUMMARY:Memorial Day Family Picnic
DESCRIPTION:Invite your family\, friends and neighbors to an "old school" dinner on the grounds! Bring your favorite side dish or a pie and come share in the fun. There will be lots of games\, a bouncy house for the kids and a pie baking contest. Bring your lawn chair and come out and enjoy the fun!!!!
X-ALT-DESC;FMTTYPE=text/html:Invite your family\, friends and neighbors to an &quot\;old school&quot\; dinner on the grounds! Bring your favorite side dish or a pie and come share in the fun. There will be lots of games\, a bouncy house for the kids and a pie baking contest. Bring your lawn chair and come out and enjoy the fun!!!!
LOCATION:Southside Baptist Church Lufkin Texas 75901 1615 Tulane Dr.
UID:e.507.7200
SEQUENCE:3
DTSTAMP:20260423T174620Z
URL:https://members.lufkintexas.org/events/details/memorial-day-family-picnic-7200
END:VEVENT

END:VCALENDAR
