BEGIN:VCALENDAR
VERSION:2.0
PRODID:-//ChamberMaster//Event Calendar 2.0//EN
METHOD:PUBLISH
X-PUBLISHED-TTL:P3D
REFRESH-INTERVAL:P3D
CALSCALE:GREGORIAN
BEGIN:VEVENT
DTSTART:20260419T000000Z
DTEND:20260419T020000Z
X-MICROSOFT-CDO-ALLDAYEVENT:FALSE
SUMMARY:Moto Xtreme Circus
DESCRIPTION:Get ready for a high-energy adrenaline rushing show. Combining action sports with the most spectacular circus thrill acts. The X-Metal Riders BMX FREESTYLE The Globe of Death! Sky Masters   Aerial Thrills Pendulum Wheel The Nuclear Stunt Girls and MORE! Show is 1 hour and 30 minutes. Limited pre-order tickets available. Gates will open one hour before each show.
X-ALT-DESC;FMTTYPE=text/html:Get ready for a high-energy adrenaline rushing show. Combining action sports with the most spectacular circus thrill acts. The X-Metal Riders BMX FREESTYLE The Globe of Death! Sky Masters &ndash\; Aerial Thrills Pendulum Wheel The Nuclear Stunt Girls and MORE! Show is 1 hour and 30 minutes. Limited pre-order tickets available. Gates will open one hour before each show.
LOCATION:Angelina County Expo Center 1200 Ellen Trout Dr
UID:e.507.17939
SEQUENCE:3
DTSTAMP:20260424T214148Z
URL:https://members.lufkintexas.org/events/details/moto-xtreme-circus-04-18-2026-17939
END:VEVENT

END:VCALENDAR
