BEGIN:VCALENDAR
VERSION:2.0
PRODID:-//ChamberMaster//Event Calendar 2.0//EN
METHOD:PUBLISH
X-PUBLISHED-TTL:P3D
REFRESH-INTERVAL:P3D
CALSCALE:GREGORIAN
BEGIN:VEVENT
DTSTART:20260507T170000Z
DTEND:20260507T170000Z
X-MICROSOFT-CDO-ALLDAYEVENT:FALSE
SUMMARY:National Day Of Prayer
DESCRIPTION:National Day of Prayer
X-ALT-DESC;FMTTYPE=text/html:National Day of Prayer
LOCATION:Lufkin Civic Center 601 N 2nd St\, Lufkin\, 75901
UID:e.507.18037
SEQUENCE:3
DTSTAMP:20260423T010326Z
URL:https://members.lufkintexas.org/events/details/national-day-of-prayer-18037
END:VEVENT

END:VCALENDAR
