BEGIN:VCALENDAR
VERSION:2.0
PRODID:-//ChamberMaster//Event Calendar 2.0//EN
METHOD:PUBLISH
X-PUBLISHED-TTL:P3D
REFRESH-INTERVAL:P3D
CALSCALE:GREGORIAN
BEGIN:VEVENT
DTSTART:20260925T130000Z
DTEND:20260925T140000Z
X-MICROSOFT-CDO-ALLDAYEVENT:FALSE
SUMMARY:Power Networking Breakfast
DESCRIPTION:Power Networking Breakfast
X-ALT-DESC;FMTTYPE=text/html:<span data-olk-copy-source="CalendarCompose" style="font-family: Aptos\, Aptos_EmbeddedFont\, Aptos_MSFontService\, Calibri\, Helvetica\, sans-serif\; font-size: 12pt\; color: rgb(0\, 0\, 0)\;">Power Networking Breakfast</span>
LOCATION:
UID:e.507.17902
SEQUENCE:3
DTSTAMP:20260423T113753Z
URL:https://members.lufkintexas.org/events/details/power-networking-breakfast-17902
END:VEVENT

END:VCALENDAR
