BEGIN:VCALENDAR
VERSION:2.0
PRODID:-//ChamberMaster//Event Calendar 2.0//EN
METHOD:PUBLISH
X-PUBLISHED-TTL:P3D
REFRESH-INTERVAL:P3D
CALSCALE:GREGORIAN
BEGIN:VEVENT
DTSTART:20260411T150000Z
DTEND:20260412T200000Z
X-MICROSOFT-CDO-ALLDAYEVENT:FALSE
SUMMARY:Region V High School Rodeo
DESCRIPTION:Free Admission and Free Parking. Saturday: Starting at 10:00 am. Sunday: Starting at 9:00 am. Event includes bareback\, Saddle Bronc\, Bull Riding\, Barrel Racing\, Pole Bending\, Team Roping\, Breakaway Calf Roping\, Steer Wrestling and Goat Tying. Concessions available.
X-ALT-DESC;FMTTYPE=text/html:Free Admission and Free Parking. Saturday: Starting at 10:00 am. Sunday: Starting at 9:00 am. Event includes bareback\, Saddle Bronc\, Bull Riding\, Barrel Racing\, Pole Bending\, Team Roping\, Breakaway Calf Roping\, Steer Wrestling and Goat Tying. Concessions available.
LOCATION:Angelina County Expo Center
UID:e.507.17938
SEQUENCE:3
DTSTAMP:20260424T214312Z
URL:https://members.lufkintexas.org/events/details/region-v-high-school-rodeo-04-11-2026-17938
END:VEVENT

END:VCALENDAR
