BEGIN:VCALENDAR
VERSION:2.0
PRODID:-//ChamberMaster//Event Calendar 2.0//EN
METHOD:PUBLISH
X-PUBLISHED-TTL:P3D
REFRESH-INTERVAL:P3D
CALSCALE:GREGORIAN
BEGIN:VEVENT
DTSTART:20260430T120000Z
DTEND:20260430T220000Z
X-MICROSOFT-CDO-ALLDAYEVENT:FALSE
SUMMARY:SLHM Volunteer Auxiliary Grace Anna's Boutique & Linen Sale
DESCRIPTION:St. Luke's Health Memorial Lufkin's Volunteer Auxiliary is hosting the Grace Anna's Boutique Sale Thursday April 30th 7am to 5pm and Friday May 1st from 7am to 3pm in the Mission Room (formerly known as Med Staff). \n\n\n\nProceeds benefit the Volunteer Auxiliary and their many projects.\n\n\n\nFashion & Sterling Silver Jewelry\, Apparel\, Bed Linens. Electronics and More!!\n\nUp to 80% off retail. \n\n\n\nCash  and Credit Cards accepted. Payroll Deduction (for hospital staff)
X-ALT-DESC;FMTTYPE=text/html:St. Luke&#39\;s Health Memorial Lufkin&#39\;s Volunteer Auxiliary is hosting the Grace Anna&#39\;s Boutique Sale Thursday April 30th 7am to 5pm and Friday May 1st from 7am to 3pm in the Mission Room (formerly known as Med Staff).&nbsp\;<br />\n<br />\nProceeds benefit the Volunteer Auxiliary and their many projects.<br />\n<br />\nFashion &amp\; Sterling Silver Jewelry\, Apparel\, Bed Linens. Electronics and More!!<br />\nUp to 80% off retail.&nbsp\;<br />\n<br />\nCash&nbsp\; and Credit Cards accepted. Payroll Deduction (for hospital staff)
LOCATION:St. Luke's Health Memorial Lufkin 1201 W. Frank Lufkin\, TX 75904 Inside the Mission Room (formerly known as Med Staff Room)
UID:e.507.18038
SEQUENCE:3
DTSTAMP:20260424T022302Z
URL:https://members.lufkintexas.org/events/details/slhm-volunteer-auxiliary-grace-anna-s-boutique-linen-sale-18038
END:VEVENT

END:VCALENDAR
