BEGIN:VCALENDAR
VERSION:2.0
PRODID:-//ChamberMaster//Event Calendar 2.0//EN
METHOD:PUBLISH
X-PUBLISHED-TTL:P3D
REFRESH-INTERVAL:P3D
CALSCALE:GREGORIAN
BEGIN:VEVENT
DTSTART:20260501T120000Z
DTEND:20260501T200000Z
X-MICROSOFT-CDO-ALLDAYEVENT:FALSE
SUMMARY:SLHM Volunteer Auxiliary Jewlery & Linen Sale Day 2
DESCRIPTION:St. Luke's Health Memorial Lufkin's Volunteer Auxiliary is hosting the Grace Anna's Boutique Sale Thursday April 30th 7am to 5pm and Friday May 1st from 7am to 3pm in the Mission Room (formerly known as Med Staff). \n \n\nProceeds benefit the Volunteer Auxiliary and their many projects.\n\nFashion & Sterling Silver Jewelry\, Apparel\, Bed Linens. Electronics and More!!\n\nUp to 80% off retail. Cash  and Credit Cards accepted. Payroll Deduction (for hospital staff)
X-ALT-DESC;FMTTYPE=text/html:<p><span style="background-color:rgb(255\, 255\, 255)\; color:rgb(51\, 51\, 51)\; font-family:arial\,sans-serif\; font-size:10pt">St. Luke&#39\;s Health Memorial Lufkin&#39\;s Volunteer Auxiliary is hosting the Grace Anna&#39\;s Boutique Sale Thursday April 30th 7am to 5pm and Friday May 1st from 7am to 3pm in the Mission Room (formerly known as Med Staff).&nbsp\;</span></p>\n&nbsp\;\n\n<p><span style="background-color:rgb(255\, 255\, 255)\; color:rgb(51\, 51\, 51)\; font-family:arial\,sans-serif\; font-size:10pt">Proceeds benefit the Volunteer Auxiliary and their many projects.</span></p>\n\n<p><span style="background-color:rgb(255\, 255\, 255)\; color:rgb(51\, 51\, 51)\; font-family:arial\,sans-serif\; font-size:10pt">Fashion &amp\; Sterling Silver Jewelry\, Apparel\, Bed Linens. Electronics and More!!</span></p>\n\n<p><span style="background-color:rgb(255\, 255\, 255)\; color:rgb(51\, 51\, 51)\; font-family:arial\,sans-serif\; font-size:10pt">Up to 80% off retail.&nbsp\;</span><span style="font-family:arial\,sans-serif\; font-size:10pt">Cash&nbsp\; and Credit Cards accepted. Payroll Deduction (for hospital staff)</span></p>\n\n<div>&nbsp\;</div>\n
LOCATION:St. Luke's Health Memorial Lufkin 1201 W. Frank Lufkin\, TX 75904 Inside the Mission Room (formerly known as Med Staff Room)
UID:e.507.18039
SEQUENCE:3
DTSTAMP:20260424T022144Z
URL:https://members.lufkintexas.org/events/details/slhm-volunteer-auxiliary-jewlery-linen-sale-day-2-18039
END:VEVENT

END:VCALENDAR
