BEGIN:VCALENDAR
VERSION:2.0
PRODID:-//ChamberMaster//Event Calendar 2.0//EN
METHOD:PUBLISH
X-PUBLISHED-TTL:P3D
REFRESH-INTERVAL:P3D
CALSCALE:GREGORIAN
BEGIN:VEVENT
DTSTART:20210122T170000Z
DTEND:20210122T180000Z
X-MICROSOFT-CDO-ALLDAYEVENT:FALSE
SUMMARY:Virtual January First Friday Luncheon
DESCRIPTION:Join us this Friday\, January 22nd at 11AM on Facebook Live for a virtual First Friday Luncheon\, presented by Lufkin Coca-Cola Bottling Company. We are excited to hear from Sharon Shaw\, Administrator at the Angelina County & Cities Health District. Sharon will give us a n update on the latest with COVID-19 in Angelina County and how to get signed up to get your vaccination!
X-ALT-DESC;FMTTYPE=text/html:Join us this Friday\, January 22<sup>nd</sup> at 11AM on Facebook Live for a virtual First Friday Luncheon\, presented by Lufkin Coca-Cola Bottling Company. We are excited to hear from Sharon Shaw\, Administrator at the Angelina County &amp\; Cities Health District. Sharon will give us a n update on the latest with COVID-19 in Angelina County and how to get signed up to get your vaccination!<br />\n&nbsp\;
LOCATION:Facebook Live www.Facebook.com/LufkinChamber
UID:e.507.7680
SEQUENCE:3
DTSTAMP:20260422T174210Z
URL:https://members.lufkintexas.org/events/details/virtual-january-first-friday-luncheon-7680
END:VEVENT

END:VCALENDAR
