BEGIN:VCALENDAR
VERSION:2.0
PRODID:-//ChamberMaster//Event Calendar 2.0//EN
METHOD:PUBLISH
X-PUBLISHED-TTL:P3D
REFRESH-INTERVAL:P3D
CALSCALE:GREGORIAN
BEGIN:VEVENT
DTSTART:20260813T130000Z
DTEND:20260813T140000Z
X-MICROSOFT-CDO-ALLDAYEVENT:FALSE
SUMMARY:Women's Networking Breakfast
DESCRIPTION:Women's Networking Breakfast
X-ALT-DESC;FMTTYPE=text/html:Women&#39\;s Networking Breakfast
LOCATION:
UID:e.507.17893
SEQUENCE:3
DTSTAMP:20260423T101214Z
URL:https://members.lufkintexas.org/events/details/women-s-networking-breakfast-17893
END:VEVENT

END:VCALENDAR
