BEGIN:VCALENDAR
VERSION:2.0
PRODID:-//ChamberMaster//Event Calendar 2.0//EN
METHOD:PUBLISH
X-PUBLISHED-TTL:P3D
REFRESH-INTERVAL:P3D
CALSCALE:GREGORIAN
BEGIN:VEVENT
DTSTART:20261013T170000Z
DTEND:20261013T180000Z
X-MICROSOFT-CDO-ALLDAYEVENT:FALSE
SUMMARY:Women's Networking Luncheon
DESCRIPTION:Women's Networking Luncheon
X-ALT-DESC;FMTTYPE=text/html:Women&#39\;s Networking Luncheon
LOCATION:
UID:e.507.17905
SEQUENCE:3
DTSTAMP:20260423T131739Z
URL:https://members.lufkintexas.org/events/details/women-s-networking-luncheon-17905
END:VEVENT

END:VCALENDAR
