BEGIN:VCALENDAR
VERSION:2.0
PRODID:-//ChamberMaster//Event Calendar 2.0//EN
METHOD:PUBLISH
X-PUBLISHED-TTL:P3D
REFRESH-INTERVAL:P3D
CALSCALE:GREGORIAN
BEGIN:VEVENT
DTSTART:20261208T173000Z
DTEND:20261208T190000Z
X-MICROSOFT-CDO-ALLDAYEVENT:FALSE
SUMMARY:Women's Networking Luncheon | Chamber's Favorite Things
DESCRIPTION:Women's Networking Luncheon | Chamber's Favorite Things
X-ALT-DESC;FMTTYPE=text/html:<span data-olk-copy-source="CalendarCompose" style="font-family: Aptos\, Aptos_EmbeddedFont\, Aptos_MSFontService\, Calibri\, Helvetica\, sans-serif\; font-size: 12pt\; color: rgb(0\, 0\, 0)\;">Women&#39\;s Networking Luncheon | Chamber&#39\;s Favorite Things</span>
LOCATION:Crown Colony Country Club 900 Crown Colony Drive\, Lufkin
UID:e.507.17915
SEQUENCE:3
DTSTAMP:20260423T155931Z
URL:https://members.lufkintexas.org/events/details/women-s-networking-luncheon-chamber-s-favorite-things-17915
END:VEVENT

END:VCALENDAR
